BEGIN:VCALENDAR
BEGIN:VEVENT
SUMMARY:Happy Hour: @GGPS\, Dev [nycnoise]
DTSTART:20250502T230000Z
DTEND:20250503T000000Z
UID:e0c980f8-9ae9-4dc5-8692-74c2aee82311
CREATED:20260420T145609Z
DESCRIPTION:🇵🇸 PACBI
LOCATION:bossa nova civic club (1271 myrtle ave\, brooklyn)
END:VEVENT
END:VCALENDAR
