BEGIN:VCALENDAR
BEGIN:VEVENT
SUMMARY:Sorry Records: sddp\, DJ Fairway\, Nick Boyd [nycnoise]
DTSTART:20250505T020000Z
DTEND:20250505T030000Z
UID:ba9ada56-64f6-4b3e-a657-d5da6438b937
CREATED:20260420T145604Z
DESCRIPTION:🇵🇸 PACBI (bossa *&amp\;* sorry)
LOCATION:bossa nova civic club (1271 myrtle ave\, brooklyn)
END:VEVENT
END:VCALENDAR
