BEGIN:VCALENDAR
BEGIN:VEVENT
SUMMARY:Nathan Chamberlain / Neel Gosh / Paul Sakai\, Ayako Kanda / Angela
  Sawyer / Sean Ali / Brittany Karlson / Nick Neuberg\, James McKain / Tom 
 Weeks / Teté Leguía / Kevin Shea [nycnoise]
DTSTART:20250429T230000Z
DTEND:20250430T000000Z
UID:4e8bea17-2288-44ed-be7b-a043ca6713c4
CREATED:20260420T145411Z
DESCRIPTION:🇵🇸 PACBI
LOCATION:brothers wash & dry laundromat (5420 nurge ave\, queens)
END:VEVENT
END:VCALENDAR
