BEGIN:VCALENDAR
BEGIN:VEVENT
SUMMARY:Nite Loops: Antiics\, Bendito\, Veecio\, Jeremy Giros [nycnoise]
DTSTART:20250507T020000Z
DTEND:20250507T030000Z
UID:4a9a97b1-d75a-441b-9c29-85b865bec31b
CREATED:20260420T145545Z
DESCRIPTION:🇵🇸 PACBI
LOCATION:bossa nova civic club (1271 myrtle ave\, brooklyn)
END:VEVENT
END:VCALENDAR
