BEGIN:VCALENDAR
BEGIN:VEVENT
SUMMARY:Dubble Duo: Music Research Strategies\, Erica Dawn Lyle / Luke Ste
 wart / Matt Mottel\, Warren Ng & Amye McCarther [nycnoise]
DTSTART:20250509T220000Z
DTEND:20250509T230000Z
UID:0610c2a0-0d93-4622-b1dc-8dfe87a69afd
CREATED:20260420T145214Z
DESCRIPTION:🇵🇸 PACBI
LOCATION:p.i.t. (property is theft) (411 s. 5th st.\, brooklyn)
END:VEVENT
END:VCALENDAR
