BEGIN:VCALENDAR
BEGIN:VEVENT
SUMMARY:DEJA VU: Blu:sh\, Sister Zo\, Cotton [nycnoise]
DTSTART:20250508T020000Z
DTEND:20250508T030000Z
UID:880ea784-8fce-492d-b34c-7310561b00cb
CREATED:20260420T145334Z
DESCRIPTION:🇵🇸 PACBI
LOCATION:bossa nova civic club (1271 myrtle ave\, brooklyn)
END:VEVENT
END:VCALENDAR
