BEGIN:VCALENDAR
BEGIN:VEVENT
SUMMARY:BASE SEVEN: jay york\, Marco Neves\, Miss Parker\, Sploofi [nycnoi
 se]
DTSTART:20250519T020000Z
DTEND:20250519T030000Z
UID:44cec00c-eb5d-43e6-a2c8-e146069f0807
CREATED:20260420T145551Z
DESCRIPTION:🇵🇸 PACBI
LOCATION:bossa nova civic club (1271 myrtle ave\, brooklyn)
END:VEVENT
END:VCALENDAR
