BEGIN:VCALENDAR
BEGIN:VEVENT
SUMMARY:Effervescence: Connor Wrong\, Mz3\, Razrbark\, Downloadable Conten
 t [nycnoise]
DTSTART:20250521T020000Z
DTEND:20250521T030000Z
UID:2387abb3-2c6d-4c94-bd90-197d3beab57e
CREATED:20260420T145449Z
DESCRIPTION:🇵🇸 PACBI
LOCATION:bossa nova civic club (1271 myrtle ave\, brooklyn)
END:VEVENT
END:VCALENDAR
