BEGIN:VCALENDAR
BEGIN:VEVENT
SUMMARY:Dolla Party: purp\, Bast\, khar\, Vibeiana\, FAKE UZUMI [nycnoise]
DTSTART:20250523T020000Z
DTEND:20250523T030000Z
UID:0e5f960d-ffe5-40c1-85f0-5a27c7abc85c
CREATED:20260420T145254Z
DESCRIPTION:🇵🇸 PACBI
LOCATION:bossa nova civic club (1271 myrtle ave\, brooklyn)
END:VEVENT
END:VCALENDAR
