BEGIN:VCALENDAR
BEGIN:VEVENT
SUMMARY:Keychain: Guarionex Jr\, DJ Erewhon\, Pressure Assist [nycnoise]
DTSTART:20250611T020000Z
DTEND:20250611T030000Z
UID:fbeae5ae-1f91-41dc-b01e-1508916dbc98
CREATED:20260420T145601Z
DESCRIPTION:🇵🇸 PACBI
LOCATION:bossa nova civic club (1271 myrtle ave\, brooklyn)
END:VEVENT
END:VCALENDAR
