BEGIN:VCALENDAR
BEGIN:VEVENT
SUMMARY:Celestial Twins: Xana 101\, KXAH\, Vyper\, DEATHRAYZ\, ANGEL\, Cor
 alKILL\, ALIEN BALTAN [nycnoise]
DTSTART:20250619T020000Z
DTEND:20250619T030000Z
UID:6d2766fa-6a5f-47e3-827b-79ffe76edcc1
CREATED:20260420T145559Z
DESCRIPTION:🇵🇸 PACBI
LOCATION:bossa nova civic club (1271 myrtle ave\, brooklyn)
END:VEVENT
END:VCALENDAR
