BEGIN:VCALENDAR
BEGIN:VEVENT
SUMMARY:SYNTHSCAPE: Gag Ørder\, Princess Peggie\, ALEXIS DE LA ROSA [nycn
 oise]
DTSTART:20250623T020000Z
DTEND:20250623T030000Z
UID:561ca0d1-ebfd-4dbf-9ff0-2a3f7590eae6
CREATED:20260420T145455Z
DESCRIPTION:🇵🇸 PACBI
LOCATION:bossa nova civic club (1271 myrtle ave\, brooklyn)
END:VEVENT
END:VCALENDAR
