BEGIN:VCALENDAR
BEGIN:VEVENT
SUMMARY:Stice\, Callahan & Witscher\, Kill Alters (solo) [nycnoise]
DTSTART:20250523T230000Z
DTEND:20250524T000000Z
UID:2f92d813-1609-4b60-9a69-47b48cfe90fc
CREATED:20260420T145342Z
DESCRIPTION:
LOCATION:alphaville (140 wilson ave\, brooklyn)
END:VEVENT
END:VCALENDAR
