BEGIN:VCALENDAR
BEGIN:VEVENT
SUMMARY:Heavy Wild\, Stareaway\, Sara Devoe [nycnoise]
DTSTART:20250524T230000Z
DTEND:20250525T000000Z
UID:6cf4698c-e654-426e-aafc-2bfe5bf21dab
CREATED:20260420T145600Z
DESCRIPTION:
LOCATION:alphaville (140 wilson ave\, brooklyn)
END:VEVENT
END:VCALENDAR
