BEGIN:VCALENDAR
BEGIN:VEVENT
SUMMARY:Claire Ozmun\, Jackie West\, Harrison Highway\, DJ ScoutG [nycnois
 e]
DTSTART:20250705T230000Z
DTEND:20250706T000000Z
UID:36f28036-6a55-4b7d-be79-75d6b854d9fd
CREATED:20260420T145206Z
DESCRIPTION:
LOCATION:alphaville (140 wilson ave\, brooklyn)
END:VEVENT
END:VCALENDAR
