BEGIN:VCALENDAR
BEGIN:VEVENT
SUMMARY:Walt McClements\, Mari Rubio (more eaze)\, David Grubbs [nycnoise]
DTSTART:20250525T210000Z
DTEND:20250525T220000Z
UID:e87d1e45-6a1d-48e4-9c8b-65f67eb5f1ea
CREATED:20260420T145214Z
DESCRIPTION:🇵🇸 PACBI
LOCATION:p.i.t. (property is theft) (411 s. 5th st.\, brooklyn)
END:VEVENT
END:VCALENDAR
