BEGIN:VCALENDAR
BEGIN:VEVENT
SUMMARY:COOL HEAT\, Computer Kill\, Golder [nycnoise]
DTSTART:20250726T230000Z
DTEND:20250727T000000Z
UID:b6a1b618-3549-4812-ad82-f20a9d40233f
CREATED:20260420T164007Z
DESCRIPTION:🇵🇸 PACBI
LOCATION:purgatory (675 central ave\, brooklyn)
END:VEVENT
END:VCALENDAR
