BEGIN:VCALENDAR
BEGIN:VEVENT
SUMMARY:Instrumental Underground: Beyond Flute Group\, Golden Pearring\, C
 harles Downs Quartet [nycnoise]
DTSTART:20250510T230000Z
DTEND:20250511T000000Z
UID:5de3037d-7a0b-480e-9585-37edb6627f3e
CREATED:20260420T145408Z
DESCRIPTION:BFG: Cheryl Pyle\, Michael Eaton\, Gene Coleman\, Sylvain Lero
 ux\; CD4 w/ Sam Childs\, Jonathan Paik\, Joe Morris
LOCATION:ibeam (168 7th st.\, brooklyn)
END:VEVENT
END:VCALENDAR
