BEGIN:VCALENDAR
BEGIN:VEVENT
SUMMARY:synthia x is not music present HOW I PLAY: STEFA* [nycnoise]
DTSTART:20250428T220000Z
DTEND:20250428T230000Z
UID:32cc1090-a8af-4626-8fe6-4702aee9f994
CREATED:20260420T145333Z
DESCRIPTION:"a new series wherein an artist shares their personal connecti
 on to a musical instrument ... STEFA* with the boss rc-505 loop station"
LOCATION:synthia studio
END:VEVENT
END:VCALENDAR
