BEGIN:VCALENDAR
BEGIN:VEVENT
SUMMARY:Música de Tensão presents: A.B.E.L.A. (Asociación de Bateristas
  ElektrónikXs de Latinoamerika) [nycnoise]
DTSTART:20250430T230000Z
DTEND:20250501T000000Z
UID:caf13cff-89e3-47f4-a8e1-4d8151ddef29
CREATED:20260420T145600Z
DESCRIPTION:🇵🇸 PACBI +++ 🌀 notaflof work trade
LOCATION:light & sound design
END:VEVENT
END:VCALENDAR
