BEGIN:VCALENDAR
BEGIN:VEVENT
SUMMARY:Long Play: Sara Serpa / Marta Sanchez / Greg Ward / Qasim Naqvi\, 
 Nour Harkati\, the Narcotix [nycnoise]
DTSTART:20250504T170000Z
DTEND:20250504T180000Z
UID:b23627c8-01f1-4d0e-83f5-ef2111542ad3
CREATED:20260420T145349Z
DESCRIPTION:free sets start at 2pm\, 3:30pm\, 5pm\; full fest
LOCATION:bamcafé (112 felix st.\, brooklyn)
END:VEVENT
END:VCALENDAR
