BEGIN:VCALENDAR
BEGIN:VEVENT
SUMMARY:Long Play: broom (Kyle Hodgkin\, Daniel Vila\, Seb Mahal) [nycnois
 e]
DTSTART:20250504T220000Z
DTEND:20250504T230000Z
UID:5e7f76e9-2cf4-4e81-8ab5-536ee0f3a532
CREATED:20260420T145556Z
DESCRIPTION:"a brooklyn based community-funded experimental cleaning servi
 ce"\; full fest
LOCATION:fort greene park (Dekalb Avenue &\, S Portland Ave\, 11205)
END:VEVENT
END:VCALENDAR
