BEGIN:VCALENDAR
BEGIN:VEVENT
SUMMARY:Free Dimensions: Cooper-Moore / Jamale Davis / Jay Reed / Melanie 
 Dyer\, Warren Trae Crudup & Ryan Easter [nycnoise]
DTSTART:20250514T230000Z
DTEND:20250515T000000Z
UID:a7ec7730-cec0-46ba-a6f0-8d1d65b240da
CREATED:20260420T145251Z
DESCRIPTION:curated by Melanie Dyer
LOCATION:nublu classic (62 Loisaida Ave\, New York\, NY 10009)
END:VEVENT
END:VCALENDAR
