BEGIN:VCALENDAR
BEGIN:VEVENT
SUMMARY:M. Sidnam\, Beton Tåge\, DSM-III\, Echo Chamber [nycnoise]
DTSTART:20250507T000000Z
DTEND:20250507T010000Z
UID:a67192b5-f814-4687-81e7-023e8d060adf
CREATED:20260420T145332Z
DESCRIPTION:
LOCATION:selva (1329 Willoughby Ave Suite 121\, Brooklyn\, NY 11237\, Unit
 ed States)
END:VEVENT
END:VCALENDAR
