BEGIN:VCALENDAR
BEGIN:VEVENT
SUMMARY:Liam Battle\, Yaz Lancaster\, Zachary Mezzo Trio ft. Kristian De L
 eon (projections)\, Blank Aberration [nycnoise]
DTSTART:20250508T230000Z
DTEND:20250509T000000Z
UID:7ba343c3-9efb-46c5-89b9-521f399e58ff
CREATED:20260420T145602Z
DESCRIPTION:
LOCATION:[RIP] rabbit hole evergreen (513 Evergreen Ave\, Brooklyn\, NY 11
 221)
END:VEVENT
END:VCALENDAR
