BEGIN:VCALENDAR
BEGIN:VEVENT
SUMMARY:Yumi & KG will Present Sounds [nycnoise]
DTSTART:20250508T230000Z
DTEND:20250509T000000Z
UID:dc3024e8-d707-4b23-858c-e9df72998e19
CREATED:20260420T145557Z
DESCRIPTION:🇵🇸 PACBI +++ 🌀 notaflof work trade
LOCATION:light & sound design
END:VEVENT
END:VCALENDAR
