BEGIN:VCALENDAR
BEGIN:VEVENT
SUMMARY:The Second Annual Conference About Artist-Curated Exhibitions: Gav
 ilán Rayna Russom [nycnoise]
DTSTART:20250504T203000Z
DTEND:20250504T213000Z
UID:62f1dda4-0698-4fc7-b3cb-3130f7dc3040
CREATED:20260420T145538Z
DESCRIPTION:full conf may 3-may 4\, click thru for info\, 🌀 free if you
  email from a .edu address\; GRR&nbsp\;"incorporating audio samples of Chl
 oe Dzubilo\, from the archive of T DE LONG\, in honor of TransEuphoria\, c
 urated by Chloe Dzubilo and Jeffrey Greene (2011)"
LOCATION:giorno poetry systems (222 bowery\, manhattan)
END:VEVENT
END:VCALENDAR
