BEGIN:VCALENDAR
BEGIN:VEVENT
SUMMARY:Xordox 'Terraform' Album Release: JG Thirlwell's Xordox\, C. Laven
 der [nycnoise]
DTSTART:20250529T230000Z
DTEND:20250530T000000Z
UID:2b410378-b08b-4eb7-9141-85cdbf7d5890
CREATED:20260420T145251Z
DESCRIPTION:
LOCATION:tv eye (1647 Weirfield St\, Ridgewood\, NY 11385)
END:VEVENT
END:VCALENDAR
