BEGIN:VCALENDAR
BEGIN:VEVENT
SUMMARY:Deep Listening VIII: Ka Baird\, gabby fluke-mogul\, Nick Hallett\,
  Daniel Klag [nycnoise]
DTSTART:20250516T230000Z
DTEND:20250517T000000Z
UID:e2d6aedb-f02b-4240-8280-e8bed86f4f8f
CREATED:20260420T145342Z
DESCRIPTION:
LOCATION:parkside lounge (317 e. houston st.\, manhattan)
END:VEVENT
END:VCALENDAR
