BEGIN:VCALENDAR
BEGIN:VEVENT
SUMMARY:International Anthem & Pique-nique Present Ben LaMar Gay Talk + Al
 bum Listening: DJs Loum\, Proudfoot [nycnoise]
DTSTART:20250505T230000Z
DTEND:20250506T000000Z
UID:695a2569-e642-4745-9c5f-95be5c532a8f
CREATED:20260420T145456Z
DESCRIPTION:🇵🇸 PACBI
LOCATION:light & sound design
END:VEVENT
END:VCALENDAR
