BEGIN:VCALENDAR
BEGIN:VEVENT
SUMMARY:Tarot Parade ArcanaCrawl: Creek to River: Sally Beauti Twin & Heat
 her Rose Piper [nycnoise]
DTSTART:20250517T233000Z
DTEND:20250518T003000Z
UID:e2f2c14d-d5c3-4085-a74e-86ba8dbc0366
CREATED:20260420T145302Z
DESCRIPTION:"a joyful night parade ... along Newtown Creek &amp\; the East
  River at Flux IV in Hunters Point South\, to Gantry Plaza State Park\, &a
 mp\; back." +++ costume sign-up (they still need death\, which seems like 
 a good costume card??)
LOCATION:parade from flux iv (56- 21 2nd St\, Long Island City\, NY 11101)
END:VEVENT
END:VCALENDAR
