BEGIN:VCALENDAR
BEGIN:VEVENT
SUMMARY:Jason Lindner x Currency Audio\, Ben Shirken\, Yaz Lancaster & Ame
 lia Holt (DJ) [nycnoise]
DTSTART:20250507T230000Z
DTEND:20250508T000000Z
UID:0b17db1f-a933-4a25-9129-4fed0ef3e1b9
CREATED:20260420T145357Z
DESCRIPTION:🇵🇸 PACBI +++ 🌀 notaflof work trade
LOCATION:light & sound design
END:VEVENT
END:VCALENDAR
