BEGIN:VCALENDAR
BEGIN:VEVENT
SUMMARY:Fiber Vol. 8: FAUZIA\, fuge\, KING VISION ULTRA\, myu 無 \, subt.
 le\, Swaya [nycnoise]
DTSTART:20250510T220000Z
DTEND:20250510T230000Z
UID:9c7b0e68-7f86-45bc-9a51-0f69afbaea1d
CREATED:20260420T145455Z
DESCRIPTION:🇵🇸 PACBI +++&nbsp\;🌀 notaflof work trade
LOCATION:light & sound design
END:VEVENT
END:VCALENDAR
