BEGIN:VCALENDAR
BEGIN:VEVENT
SUMMARY:Eli Keszler\, David Grubbs [nycnoise]
DTSTART:20250522T000000Z
DTEND:20250522T010000Z
UID:026ceec8-9ba6-447e-a31e-b2e3aa10b868
CREATED:20260420T145602Z
DESCRIPTION:7pm doors
LOCATION:le poisson rouge (lpr) (158 bleecker st.\, manhattan)
END:VEVENT
END:VCALENDAR
