BEGIN:VCALENDAR
BEGIN:VEVENT
SUMMARY:Khanate\, Mick Barr [nycnoise]
DTSTART:20250604T000000Z
DTEND:20250604T010000Z
UID:6d53df76-41e6-4677-a1e9-7daad39c1188
CREATED:20260420T145507Z
DESCRIPTION:7pm doors
LOCATION:le poisson rouge (lpr) (158 bleecker st.\, manhattan)
END:VEVENT
END:VCALENDAR
