BEGIN:VCALENDAR
BEGIN:VEVENT
SUMMARY:Sleepytime Gorilla Museum\, Spotlights\, Ava Farber [nycnoise]
DTSTART:20250508T233000Z
DTEND:20250509T003000Z
UID:430c9126-67f1-452d-8f8e-c86d19b32a7b
CREATED:20260420T145242Z
DESCRIPTION:6:30pm doors
LOCATION:le poisson rouge (lpr) (158 bleecker st.\, manhattan)
END:VEVENT
END:VCALENDAR
