BEGIN:VCALENDAR
BEGIN:VEVENT
SUMMARY:Ka Baird\, Kat Mustatea\, Night #2/3 [nycnoise]
DTSTART:20250524T000000Z
DTEND:20250524T010000Z
UID:7abd72cb-2856-401a-92b3-7414f0a5d991
CREATED:20260420T145503Z
DESCRIPTION:7pm doors\; "sound\, movement\, technology &amp\; linguistic p
 ractice"
LOCATION:edge space (457 Broome St\, New York\, NY 10013)
END:VEVENT
END:VCALENDAR
