BEGIN:VCALENDAR
BEGIN:VEVENT
SUMMARY:TRUCK SHOW x Seven Times Infinity Album Release: Aliya Ultan\, Jon
  Starks\, Javen Lara\, Teté Leguía\, Adam Turay\, Kevin Eichenberger\, W
 esley Michalski\, Jon Download (DJ) [nycnoise]
DTSTART:20250511T010000Z
DTEND:20250511T020000Z
UID:fc1b0bc1-32a1-4f17-a11f-a65f4b65f942
CREATED:20260420T145257Z
DESCRIPTION:flyer
LOCATION:uhaul near purgatory
END:VEVENT
END:VCALENDAR
