BEGIN:VCALENDAR
BEGIN:VEVENT
SUMMARY:Dem (Album Release\; Cenk Ergün\, Jeff Snyder\, Jason Treuting ft
 . Charmaine Lee) [nycnoise]
DTSTART:20250523T233000Z
DTEND:20250524T003000Z
UID:7fa5ccce-ec46-45b1-b031-0424630c78d8
CREATED:20260420T145540Z
DESCRIPTION:
LOCATION:sō percussion's space (20 grand ave\, brooklyn)
END:VEVENT
END:VCALENDAR
