BEGIN:VCALENDAR
BEGIN:VEVENT
SUMMARY:Millions\, Webb Crawford + Chuck Roth\, Fad Diet\, Konrad Kamm\, E
 cstasy Police [nycnoise]
DTSTART:20250531T221500Z
DTEND:20250531T231500Z
UID:63efca6c-4526-4693-b9ea-fe588a107699
CREATED:20260420T145506Z
DESCRIPTION:🇵🇸 PACBI +++ shoutout to tom's website which i luv!! :')
LOCATION:skinny apartment
END:VEVENT
END:VCALENDAR
