BEGIN:VCALENDAR
BEGIN:VEVENT
SUMMARY:Heads Happenings: Sloppy Heads\, Antietam\, Abbie from Mars [nycno
 ise]
DTSTART:20250508T230000Z
DTEND:20250509T000000Z
UID:672dce19-ff43-4dd0-965d-8f43cebaa68c
CREATED:20260420T145543Z
DESCRIPTION:
LOCATION:mama tried (787 3rd ave\, brooklyn)
END:VEVENT
END:VCALENDAR
