BEGIN:VCALENDAR
BEGIN:VEVENT
SUMMARY:Music Research Strategies (Marshall Trammell): Listen Like Wolves 
 / A Grammar of Motives [nycnoise]
DTSTART:20250514T220000Z
DTEND:20250514T230000Z
UID:428b2ea5-45c8-46a8-8e0d-1d7537ed31ff
CREATED:20260420T145335Z
DESCRIPTION:"participatory listening engagement"
LOCATION:cthq (59 E 4th St floor 7\, New York\, NY 10003)
END:VEVENT
END:VCALENDAR
