BEGIN:VCALENDAR
BEGIN:VEVENT
SUMMARY:Elgin Marbles\, Zoolephants\, OOF [nycnoise]
DTSTART:20250525T200000Z
DTEND:20250525T210000Z
UID:880ab5c2-4ea7-4d5b-85a0-b63c205b9630
CREATED:20260420T145157Z
DESCRIPTION:
LOCATION:mama tried (787 3rd ave\, brooklyn)
END:VEVENT
END:VCALENDAR
