BEGIN:VCALENDAR
BEGIN:VEVENT
SUMMARY:Heads Happenings: Sloppy Heads\, James Mcnew & Jennifer O’Connor
 \, kid millions & Sarah Bernstein [nycnoise]
DTSTART:20250612T230000Z
DTEND:20250613T000000Z
UID:5cc98907-d244-453d-bb88-d96f81b7374f
CREATED:20260420T145355Z
DESCRIPTION:
LOCATION:mama tried (787 3rd ave\, brooklyn)
END:VEVENT
END:VCALENDAR
