BEGIN:VCALENDAR
BEGIN:VEVENT
SUMMARY:Alex Asher 'Slow Motion\,' Michael Lavalle [nycnoise]
DTSTART:20250529T000000Z
DTEND:20250529T010000Z
UID:232c7f73-7702-4524-8d83-c44500c9e1c3
CREATED:20260420T145424Z
DESCRIPTION:7:30pm doors
LOCATION:threes brewing (333 douglass st.\, brooklyn)
END:VEVENT
END:VCALENDAR
