BEGIN:VCALENDAR
BEGIN:VEVENT
SUMMARY:9th Kerouac Festival: Samantha Riott & Aliya Ultan\, DJs Vicios Oc
 ultos & Dario G\, & more [nycnoise]
DTSTART:20250509T233000Z
DTEND:20250510T003000Z
UID:c785beea-d0d4-41ae-87a3-d3fd83bb0b39
CREATED:20260420T145507Z
DESCRIPTION:"live poetry by M&oacute\;nica Carrillo\, Bob Holman\, Riott\,
  Gabael Otzoy\, Isabel Castelao-G&oacute\;mez\, Nancy Mercado\, Essau Land
 a"
LOCATION:francis kite club (40 loisaida ave\, manhattan)
END:VEVENT
END:VCALENDAR
