BEGIN:VCALENDAR
BEGIN:VEVENT
SUMMARY:8 Ball Radio Presents: Malang Jobarteh\, Big Naut\, wahala.wav [ny
 cnoise]
DTSTART:20250516T000000Z
DTEND:20250516T010000Z
UID:2e61b276-8439-46ca-b4bc-2a41986d6e7f
CREATED:20260420T145317Z
DESCRIPTION:🇵🇸 PACBI (8 ball) +++ 7:30pm doors
LOCATION:francis kite club (40 loisaida ave\, manhattan)
END:VEVENT
END:VCALENDAR
