BEGIN:VCALENDAR
BEGIN:VEVENT
SUMMARY:The Flushing Remonstrance live scores Vertov's 'A Man With A Movie
  Camera' [nycnoise]
DTSTART:20250519T000000Z
DTEND:20250519T010000Z
UID:b15a32d9-663f-4db2-b0d1-fbc6db4cb5c1
CREATED:20260420T145322Z
DESCRIPTION:7:30pm doors
LOCATION:francis kite club (40 loisaida ave\, manhattan)
END:VEVENT
END:VCALENDAR
