BEGIN:VCALENDAR
BEGIN:VEVENT
SUMMARY:Soup & Sound presents: Dick Griffin & Andrew Drury [nycnoise]
DTSTART:20250518T000000Z
DTEND:20250518T010000Z
UID:bfbba539-557c-4074-95fd-5951b0068792
CREATED:20260420T145254Z
DESCRIPTION:$20 suggested donation includes soup!
LOCATION:soup & sound (292 lefferts ave\, brooklyn)
END:VEVENT
END:VCALENDAR
