BEGIN:VCALENDAR
BEGIN:VEVENT
SUMMARY:S(O)UPERF(&SO)UND: Flose\, Bathtub\, A.B.E.L.A.\, Untitled Noise N
 ight\, Allium [nycnoise]
DTSTART:20250531T220000Z
DTEND:20250531T230000Z
UID:a24fbf05-7a0f-4c28-a17f-bd2a05f10d14
CREATED:20260420T145358Z
DESCRIPTION:ACCESS: 🅰️ ☑️ "rough terrain but no stairs\," text 34
 7-282-2870 for location &amp\; Qs
LOCATION:living gallery (1094 broadway\, brooklyn)
END:VEVENT
END:VCALENDAR
